BEGIN:VCALENDAR
VERSION:2.0
PRODID:-//Santenov Dijon Bourgogne - ECPv6.15.17.1//NONSGML v1.0//EN
CALSCALE:GREGORIAN
METHOD:PUBLISH
X-WR-CALNAME:Santenov Dijon Bourgogne
X-ORIGINAL-URL:https://www.santenov.com
X-WR-CALDESC:Évènements pour Santenov Dijon Bourgogne
REFRESH-INTERVAL;VALUE=DURATION:PT1H
X-Robots-Tag:noindex
X-PUBLISHED-TTL:PT1H
BEGIN:VTIMEZONE
TZID:Europe/Paris
BEGIN:DAYLIGHT
TZOFFSETFROM:+0100
TZOFFSETTO:+0200
TZNAME:CEST
DTSTART:20250330T010000
END:DAYLIGHT
BEGIN:STANDARD
TZOFFSETFROM:+0200
TZOFFSETTO:+0100
TZNAME:CET
DTSTART:20251026T010000
END:STANDARD
BEGIN:DAYLIGHT
TZOFFSETFROM:+0100
TZOFFSETTO:+0200
TZNAME:CEST
DTSTART:20260329T010000
END:DAYLIGHT
BEGIN:STANDARD
TZOFFSETFROM:+0200
TZOFFSETTO:+0100
TZNAME:CET
DTSTART:20261025T010000
END:STANDARD
BEGIN:DAYLIGHT
TZOFFSETFROM:+0100
TZOFFSETTO:+0200
TZNAME:CEST
DTSTART:20270328T010000
END:DAYLIGHT
BEGIN:STANDARD
TZOFFSETFROM:+0200
TZOFFSETTO:+0100
TZNAME:CET
DTSTART:20271031T010000
END:STANDARD
END:VTIMEZONE
BEGIN:VEVENT
DTSTART;TZID=Europe/Paris:20260428T093000
DTEND;TZID=Europe/Paris:20260428T133000
DTSTAMP:20260420T034029
CREATED:20260319T133428Z
LAST-MODIFIED:20260417T082333Z
UID:4063-1777368600-1777383000@www.santenov.com
SUMMARY:Commission Qualité
DESCRIPTION:Commission Qualité : Garantir l’intégrité des données en production : un défi collectif à l’ère des systèmes informatisées\nLes observations d’inspection relatives à la “Data Integrity” sont de plus en plus nombreuses et ne concernent pas seulement les pays émergents ; ces remarques mettent en évidence des lacunes importantes dans la gestion des données électroniques ou papiers pour lesquelles les industriels doivent disposer des moyens de préventions efficaces. \nMais comment s’assurer que nos systèmes informatisés respectent bien les nouvelles exigences réglementaires de l’annexe 11 permettant de maintenir la conformité et assurer une production et une distribution optimales des médicaments. \nLors de cet atelier\, Mr Christophe Fagard de COETIC – by Theraxel viendra échanger sur le sujet et nos donner quelques conseils ou points d’alerte sur le sujet. \nCommission gratuite et réservée aux adhérents de Santenov\, inscription obligatoire ci-dessous.
URL:https://www.santenov.com/event/commission-qualite/
LOCATION:ESEO Dijon
CATEGORIES:Commission,Evènement Santenov Dijon Bourgogne,Save the date
ATTACH;FMTTYPE=image/jpeg:https://www.santenov.com/wp-content/uploads/2025/02/AdobeStock_482955953-scaled-e1738660322322.jpeg
END:VEVENT
BEGIN:VEVENT
DTSTART;VALUE=DATE:20260506
DTEND;VALUE=DATE:20260507
DTSTAMP:20260420T034029
CREATED:20260319T145846Z
LAST-MODIFIED:20260320T083431Z
UID:4065-1778025600-1778111999@www.santenov.com
SUMMARY:Quality Day
DESCRIPTION:La qualité devient un jeu d’équipe ! Journée de formation aux BPF avec le Groupe IMT pour rendre les collaborateurs acteurs de la formation. \nLes + \n– Dynamiser les relations et la cohésion d’équipe.\n– Faciliter la mémorisation d’informations.\n– Favoriser la montée en compétences des équipes.\n– Moduler et adapter la journée qualité en fonction de vos besoins et de votre activité. \n  \nInformations à venir. Inscription ici.
URL:https://www.santenov.com/event/quality-day/
CATEGORIES:Evènement Santenov Dijon Bourgogne
END:VEVENT
BEGIN:VEVENT
DTSTART;VALUE=DATE:20260519
DTEND;VALUE=DATE:20260522
DTSTAMP:20260420T034029
CREATED:20260319T133202Z
LAST-MODIFIED:20260417T082148Z
UID:4060-1779148800-1779407999@www.santenov.com
SUMMARY:Santexpo 2026
DESCRIPTION:60ème édition du salon emblématique de l’écosystème santé\, une édition anniversaire exceptionnelle\, 3 jours d’inspiration\, de solutions concrètes et de connexions stratégiques\, pour dessiner la santé de demain. \n 
URL:https://www.santenov.com/event/santexpo-mai-2026/
CATEGORIES:Evènement santé
ATTACH;FMTTYPE=image/png:https://www.santenov.com/wp-content/uploads/2026/03/santexpo.png
END:VEVENT
BEGIN:VEVENT
DTSTART;VALUE=DATE:20261126
DTEND;VALUE=DATE:20261127
DTSTAMP:20260420T034029
CREATED:20260403T131141Z
LAST-MODIFIED:20260414T081104Z
UID:4252-1795651200-1795737599@www.santenov.com
SUMMARY:SAVE THE DATE - Colloque MTI
DESCRIPTION:Réforme du droit pharmaceutique européen et médicaments de thérapie innovante\nEnjeux réglementaires\, industriels et perspectives\n  \nLa réforme du droit pharmaceutique européen (GPL)\, portée par une nouvelle directive et un nouveau règlement\, va redéfinir en profondeur les règles du jeu pour les acteurs du médicament. \nCette journée vous donnera les clés pour anticiper ses impacts sur les MTI et les autres médicaments innovants\, sécuriser vos stratégies réglementaires et accompagner le passage à l’échelle industrielle. La formation s’appuiera sur une expertise conjointe d’académiques et d’acteurs industriels\, offrant une vision à la fois conceptuelle et opérationnelle des enjeux de développement\, de production et d’industrialisation. \nFormation prévue Qualiopi. \nOrganisateurs : Santenov\, Université Bourgogne Europe – Credimi – CTM\, Genopole\, EBI\, IMT \nAvec la participation de : Evolving Therapeutics\, France Biolead\, Whitelab Genomics\, Yposkesi
URL:https://www.santenov.com/event/colloque-mti-2026/
LOCATION:ESEO Dijon
CATEGORIES:Evènement santé,Evènement Santenov Dijon Bourgogne
END:VEVENT
END:VCALENDAR